BEGIN:VCALENDAR
VERSION:2.0
PRODID:-//iBAT Association - ECPv6.15.18//NONSGML v1.0//EN
CALSCALE:GREGORIAN
METHOD:PUBLISH
X-WR-CALNAME:iBAT Association
X-ORIGINAL-URL:https://ibat.swiss
X-WR-CALDESC:Events for iBAT Association
REFRESH-INTERVAL;VALUE=DURATION:PT1H
X-Robots-Tag:noindex
X-PUBLISHED-TTL:PT1H
BEGIN:VTIMEZONE
TZID:Europe/Zurich
BEGIN:DAYLIGHT
TZOFFSETFROM:+0100
TZOFFSETTO:+0200
TZNAME:CEST
DTSTART:20220327T010000
END:DAYLIGHT
BEGIN:STANDARD
TZOFFSETFROM:+0200
TZOFFSETTO:+0100
TZNAME:CET
DTSTART:20221030T010000
END:STANDARD
BEGIN:DAYLIGHT
TZOFFSETFROM:+0100
TZOFFSETTO:+0200
TZNAME:CEST
DTSTART:20230326T010000
END:DAYLIGHT
BEGIN:STANDARD
TZOFFSETFROM:+0200
TZOFFSETTO:+0100
TZNAME:CET
DTSTART:20231029T010000
END:STANDARD
BEGIN:DAYLIGHT
TZOFFSETFROM:+0100
TZOFFSETTO:+0200
TZNAME:CEST
DTSTART:20240331T010000
END:DAYLIGHT
BEGIN:STANDARD
TZOFFSETFROM:+0200
TZOFFSETTO:+0100
TZNAME:CET
DTSTART:20241027T010000
END:STANDARD
END:VTIMEZONE
BEGIN:VEVENT
DTSTART;TZID=Europe/Zurich:20230606T160000
DTEND;TZID=Europe/Zurich:20230606T170000
DTSTAMP:20260421T090814
CREATED:20230424T055325Z
LAST-MODIFIED:20231101T081848Z
UID:10000004-1686067200-1686070800@ibat.swiss
SUMMARY:iBAT Battery Tuesday DTC - Dynamic Test Center
DESCRIPTION:DTC Dynamic Test Center AG\nWe can test up to «abuse» ! \n\nSpeaker : \nMarcel Strub\, CEO\, DTC Dynamic Test Center AG \nIntroduction: \nDTC AG has been performing active and passive safety testing for vehicles and aircraft since 1994. In the last few years\, we have increasingly specialized in traction batteries and extended our ISO 17025 accreditation as a testing laboratory in Switzerland. During testing the question always arises how safe is safe enough and where is the border between hard use or misuse. With our know-how and infrastructure we can provide answers with the comprehensive investigations and support the customer in the development of your products and the approval. \nTopics: \n\nWho is DTC Dynamic Test Center AG and what services can it offer?\nWhat load collectives and hazards must a traction battery withstand?\nWhat does the diverse test infrastructure in Vauffelin look like?\nWhat are the requirements of vehicle manufacturers and the authorities (approvals)?\n\n  \nSign up for the Webinar
URL:https://ibat.swiss/event/battery-tuesday-06-06-2023/
CATEGORIES:Battery Tuesdays
ATTACH;FMTTYPE=image/avif:https://ibat.swiss/wp-content/uploads/dtc-battery-tuesday-ibat.avif
ORGANIZER;CN="iBAT Association":MAILTO:info@ibat.swiss
LOCATION:https://events.teams.microsoft.com/event/7086dbe2-c1f2-4b8b-a967-cb523d759a04@5c016bd1-bea7-4494-92b5-294f6aba4a9d
END:VEVENT
BEGIN:VEVENT
DTSTART;TZID=Europe/Zurich:20230523T080000
DTEND;TZID=Europe/Zurich:20230525T170000
DTSTAMP:20260421T090814
CREATED:20230511T090004Z
LAST-MODIFIED:20230511T090220Z
UID:10000013-1684828800-1685034000@ibat.swiss
SUMMARY:The Battery Show Europe 2023
DESCRIPTION:
URL:https://ibat.swiss/event/the-battery-show-europe-2023/
CATEGORIES:Internationale Events
END:VEVENT
END:VCALENDAR